BEGIN:VCALENDAR
BEGIN:VEVENT
DESCRIPTION:\nMore Information: https://tickets.icfilmscene.org/websales/pages/TicketSearchCriteria.aspx?evtInfo=861248~4635cd47-f165-4de0-b43c-56acafd02482&\n\nA documentary following the selection process for admission at the Academy of Fine Arts in Prague.
DTSTART:20240403T213000Z
DTEND:20240403T231200Z
LOCATION:Chauncey -Theater 3, 404 E. College St. Suite 100, Iowa City, IA, 52240
SUMMARY:ART TALENT SHOW
UID:861248
DTSTAMP:20260423T053332Z
END:VEVENT
END:VCALENDAR
