BEGIN:VCALENDAR
BEGIN:VEVENT
DESCRIPTION:\nMore Information: https://tickets.icfilmscene.org/websales/pages/TicketSearchCriteria.aspx?evtInfo=842922~4635cd47-f165-4de0-b43c-56acafd02482&\n\nIn this week-long camp, campers will learn the history of miniature making, study design, and create their own miniature set pieces, including buildings, terrain, and more! Curriculum includes 3D printing.
DTSTART:20240610T133000Z
DTEND:20240614T200000Z
LOCATION:Ped Mall, 118 East College, Iowa City, IA, 52240
SUMMARY:MINIATURE CONSTRUCTION CAMP 2024
UID:842922
DTSTAMP:20260425T174051Z
END:VEVENT
END:VCALENDAR
