BEGIN:VCALENDAR
BEGIN:VEVENT
DESCRIPTION:\nMore Information: https://tickets.icfilmscene.org/websales/pages/TicketSearchCriteria.aspx?evtInfo=766850~4635cd47-f165-4de0-b43c-56acafd02482&\n\nNew York Times reporters Megan Twohey and Jodi Kantor break one of the most important stories in a generation — a story that helped launch the #MeToo movement and shattered decades of silence around the subject of sexual assault in Hollywood.
DTSTART:20221130T213000Z
DTEND:20221130T233800Z
LOCATION:Ped Mall -The Screening Room, 118 E. College St., IOWA CITY, IA, 52240
SUMMARY:SHE SAID
UID:766850
DTSTAMP:20260422T150904Z
END:VEVENT
END:VCALENDAR
